BEGIN:VCALENDAR
VERSION:2.0
PRODID:-//Williamsburg Christian Retreat Center - ECPv6.15.20//NONSGML v1.0//EN
CALSCALE:GREGORIAN
METHOD:PUBLISH
X-ORIGINAL-URL:https://www.wcrc.info
X-WR-CALDESC:Events for Williamsburg Christian Retreat Center
REFRESH-INTERVAL;VALUE=DURATION:PT1H
X-Robots-Tag:noindex
X-PUBLISHED-TTL:PT1H
BEGIN:VTIMEZONE
TZID:America/New_York
BEGIN:DAYLIGHT
TZOFFSETFROM:-0500
TZOFFSETTO:-0400
TZNAME:EDT
DTSTART:20250309T070000
END:DAYLIGHT
BEGIN:STANDARD
TZOFFSETFROM:-0400
TZOFFSETTO:-0500
TZNAME:EST
DTSTART:20251102T060000
END:STANDARD
BEGIN:DAYLIGHT
TZOFFSETFROM:-0500
TZOFFSETTO:-0400
TZNAME:EDT
DTSTART:20260308T070000
END:DAYLIGHT
BEGIN:STANDARD
TZOFFSETFROM:-0400
TZOFFSETTO:-0500
TZNAME:EST
DTSTART:20261101T060000
END:STANDARD
BEGIN:DAYLIGHT
TZOFFSETFROM:-0500
TZOFFSETTO:-0400
TZNAME:EDT
DTSTART:20270314T070000
END:DAYLIGHT
BEGIN:STANDARD
TZOFFSETFROM:-0400
TZOFFSETTO:-0500
TZNAME:EST
DTSTART:20271107T060000
END:STANDARD
END:VTIMEZONE
BEGIN:VEVENT
DTSTART;VALUE=DATE:20260505
DTEND;VALUE=DATE:20260506
DTSTAMP:20260422T003322
CREATED:20260413T221919Z
LAST-MODIFIED:20260414T200342Z
UID:10000065-1777939200-1778025599@www.wcrc.info
SUMMARY:🌮 Tacos & Testimonies – Give Local 757
DESCRIPTION:🌮 Tacos & Testimonies – Give Local 757\nFriday\, May 5\, 2026 | 4:00 PM \n \nCelebrate\, Give\, and Hear What God is Doing \nNot available to join us for the Gala May 8th? How about meet us this Cinco de Mayo for a meaningful evening of fellowship\, stories\, and impact as we come together for Give Local 757. \nFrom now through May 5\, every gift made through our Give Local campaign will be matched up to $6\,000—doubling your impact as we prepare for a powerful summer of camp. What is Give Local 757? It is a local day of giving for Hampton Roads nonprofits. This is our first year participating\, and you can help WCRC win prizes as well as support the ministry. \n🙌 What to Expect\nGather with us at a local Mexican restaurant as we: \n\nShare stories of how God is moving through camp\nCelebrate lives being changed through this ministry\nInvite you to be part of what’s ahead\n\nThis is a relaxed\, come-as-you-are evening to connect\, reflect\, and be encouraged by the work happening at Williamsburg Christian Retreat Center. If you can’t come in person your support by donation still blesses the work God is doing at WCRC. \n. \nThree Crosses Popcorn Bonfire\n💙 Be Part of the Impact\nGive Local 757 is a 24-hour day of generosity for local nonprofits\, but your gift can go even further—all donations made now through May 5 will be matched\, dollar for dollar\, up to $6\,000. Check out more info here – 👉 [Give Local 757 – Donate here] \nYour support helps: \n\nEquip and support summer staff\nCreate meaningful\, faith-filled experiences for campers\nContinue the life-changing work God is doing through camp\nGive Local 757 has many prizes for nonprofits up for grabs!\n\n👕 A Little Fun Along the Way\nAs a small thank-you\, the first 15 people who donate $50+ and join us for Tacos & Testimonies will receive a limited-edition“Taco ‘bout Jesus – Lettuce Pray” shirt. \n  \nA shirt with a taco and the bible verse Mark 16:15\n  \n📅 Event Details\nDate: May 5Time: All Day long – Restaurant meet up at 4pmLocation: Restaurant TBD – RSVP for more info to come! \n👉 Get Involved\n🙏 Make Your Gift (matched up to $6\,000):  👉 [Give Local 757 – Donate here] \n🌮 RSVP for Tacos & Testimonies:More info here!! \n✨ Let’s Reach Higher—Together\nWe believe God is preparing something special this summer. Celebrate WCRC Gala tickets are available below for May 8th. Whether you’re able to attend\, donate\, or pray for the ministry thank you for being part of the story. \nFor more information\, call us at 757-566-2256.  \n 
URL:https://www.wcrc.info/event/%f0%9f%8c%ae-tacos-testimonies-give-local-757/
LOCATION:Williamsburg Christian Retreat Center\, 9275 Barnes Road\, Toano\, VA\, 23168\, United States
CATEGORIES:Event,Fundraiser
ATTACH;FMTTYPE=image/jpeg:https://www.wcrc.info/wp-content/uploads/2026/04/wanna-taco-bout-jesus-comfort-colors-1.jpg
END:VEVENT
BEGIN:VEVENT
DTSTART;TZID=America/New_York:20260508T180000
DTEND;TZID=America/New_York:20260508T213000
DTSTAMP:20260422T003322
CREATED:20260326T184633Z
LAST-MODIFIED:20260402T185148Z
UID:10000064-1778263200-1778275800@www.wcrc.info
SUMMARY:Celebrate WCRC Gala: Reach Higher
DESCRIPTION:🤠 Celebrate WCRC Gala: Reach Higher\nFriday\, May 8\, 2026 | 6:00 PMWilliamsburg Christian Retreat Center \n \nSaddle up for an unforgettable evening at WCRC! The Celebrate WCRC Gala: Reach Higher is a fun\, high-energy night of community\, connection\, and purpose — all set under the trees at camp. \nWhether you’re coming for the food\, the music\, the auctions\, or the mission behind it all\, this is a night you won’t want to miss. \n🎉 What to Expect\nWe’re bringing together the best of camp\, community\, and a little Western flair: \n🍹 Mocktail Hour (6:00 PM)Kick off the evening with appetizers provided by WCRC and time to connect\, and axe throwing by Axe Republic. \n🍽 Dinner by Two Drummers SmokehouseEnjoy a delicious\, crowd-favorite BBQ dinner. \n🎶 Live Music by Joe’s Day OffGet ready for great tunes\, dancing\, and a lively atmosphere. \n🎁 Silent & Live AuctionsBid on unique items\, experiences\, and local favorites. \n🔥 S’mores Around the CampfireEnd the night with a sweet treat under the stars. \n🤠 Western-Inspired FunBoots optional… but highly encouraged. Dress to impress\, and it may just win you a prize. \n \n💛 Why This Night Matters\nEvery ticket\, every bid\, and every gift helps us Reach Higher. \nThis year\, we are raising funds to: \n🙏 Support Our Summer Camp CounselorsThe mentors who walk alongside campers every day — encouraging\, leading\, and pointing them to Christ. \n🌲 Enhance Our High Ropes Challenge CourseImproving safety\, accessibility\, and capacity so more campers can experience the confidence-building\, faith-growing moments that happen high in the trees. \nAt WCRC\, we see lives changed every day. Campers discover courage\, build friendships\, and grow in faith — often realizing:“I can do hard things. God is with me.” \nYour participation helps make those moments possible. \n🎟 Get Involved\n✨ Purchase Tickets or Volunteer – Join us for an incredible night out🤝 Become a Sponsor – Showcase your business while supporting a great cause🎁 Donate an Auction Item – Help us create an exciting and impactful event \n👉 [Get Tickets & Learn More] \n \n  \n  \n🤠 A Night to Remember\nThis isn’t just a gala — it’s a chance to gather\, celebrate\, and invest in something bigger. Come enjoy a night filled with laughter\, music\, and meaning… and help the next generation Reach Higher. We can’t wait to celebrate WCRC with you! Mark your calendars and bring your friends and family for an evening filled with fun and fellowship. Interested in sponsoring\, providing an auction item\, or volunteering to support the event? Email our Development Director at Chris@wcrc.info. \nFor more information\, call us at 757-566-2256. Purchase your tickets below while they last! \n 
URL:https://www.wcrc.info/event/wcrcgala2026/
LOCATION:Williamsburg Christian Retreat Center\, 9275 Barnes Road\, Toano\, VA\, 23168\, United States
CATEGORIES:Event,Fundraiser
ATTACH;FMTTYPE=image/png:https://www.wcrc.info/wp-content/uploads/2026/03/FB-Event.png
END:VEVENT
END:VCALENDAR