BEGIN:VCALENDAR
VERSION:2.0
PRODID:-//Williamsburg Christian Retreat Center - ECPv6.15.20//NONSGML v1.0//EN
CALSCALE:GREGORIAN
METHOD:PUBLISH
X-ORIGINAL-URL:https://www.wcrc.info
X-WR-CALDESC:Events for Williamsburg Christian Retreat Center
REFRESH-INTERVAL;VALUE=DURATION:PT1H
X-Robots-Tag:noindex
X-PUBLISHED-TTL:PT1H
BEGIN:VTIMEZONE
TZID:America/New_York
BEGIN:DAYLIGHT
TZOFFSETFROM:-0500
TZOFFSETTO:-0400
TZNAME:EDT
DTSTART:20240310T070000
END:DAYLIGHT
BEGIN:STANDARD
TZOFFSETFROM:-0400
TZOFFSETTO:-0500
TZNAME:EST
DTSTART:20241103T060000
END:STANDARD
BEGIN:DAYLIGHT
TZOFFSETFROM:-0500
TZOFFSETTO:-0400
TZNAME:EDT
DTSTART:20250309T070000
END:DAYLIGHT
BEGIN:STANDARD
TZOFFSETFROM:-0400
TZOFFSETTO:-0500
TZNAME:EST
DTSTART:20251102T060000
END:STANDARD
BEGIN:DAYLIGHT
TZOFFSETFROM:-0500
TZOFFSETTO:-0400
TZNAME:EDT
DTSTART:20260308T070000
END:DAYLIGHT
BEGIN:STANDARD
TZOFFSETFROM:-0400
TZOFFSETTO:-0500
TZNAME:EST
DTSTART:20261101T060000
END:STANDARD
END:VTIMEZONE
BEGIN:VEVENT
DTSTART;TZID=America/New_York:20250322T190000
DTEND;TZID=America/New_York:20250322T213000
DTSTAMP:20260422T014714
CREATED:20250130T200225Z
LAST-MODIFIED:20250213T210512Z
UID:10000043-1742670000-1742679000@www.wcrc.info
SUMMARY:Celebrate Camp 2025 – A Night of Worship\, Testimonies\, & Fellowship
DESCRIPTION:Join us for Celebrate Camp\, a special evening dedicated to reflecting on the incredible ways God has worked through WCRC’s summer camp program! Whether you’re a past camper\, staff member\, or someone interested in learning more about camp\, this is an opportunity to reconnect\, worship together\, and celebrate life-changing experiences. \n \nWhat to Expect:\n\nWorship & Reflection – A time to lift our voices in praise and gratitude for all that God has done.\nTestimonies – Hear from past campers\, staff\, and speakers as they share how WCRC has impacted their lives.\nFellowship & Desserts – Enjoy delicious treats while catching up with camp friends and making new connections.\n\nThis event is open to all who love WCRC or want to learn more about how summer camp can be a life-changing experience. Whether you’re considering camp for the first time or have been part of our community for years\, we’d love for you to join us! \n📍 Get Directions: Google Maps Link \nCome celebrate with us and be encouraged by the amazing stories of faith and transformation that continue to unfold through WCRC’s camp ministry! \nWe can’t wait to see you there! \nTo RSVP\, click here.
URL:https://www.wcrc.info/event/celebrate-camp-2025/
LOCATION:Lifepointe Christian Church\, 8841 Richmond Road\, Toano\, VA 23168\, Virginia\, 23168\, United States
END:VEVENT
END:VCALENDAR